BEGIN:VCALENDAR
VERSION:2.0
PRODID:-//Szkoła Podstawowa nr 1 w Sieradzu - ECPv6.0.2//NONSGML v1.0//EN
CALSCALE:GREGORIAN
METHOD:PUBLISH
X-ORIGINAL-URL:https://sp1sieradz.pl
X-WR-CALDESC:Events for Szkoła Podstawowa nr 1 w Sieradzu
REFRESH-INTERVAL;VALUE=DURATION:PT1H
X-Robots-Tag:noindex
X-PUBLISHED-TTL:PT1H
BEGIN:VTIMEZONE
TZID:Europe/Warsaw
BEGIN:DAYLIGHT
TZOFFSETFROM:+0100
TZOFFSETTO:+0200
TZNAME:CEST
DTSTART:20240331T010000
END:DAYLIGHT
BEGIN:STANDARD
TZOFFSETFROM:+0200
TZOFFSETTO:+0100
TZNAME:CET
DTSTART:20241027T010000
END:STANDARD
END:VTIMEZONE
BEGIN:VEVENT
DTSTART;TZID=Europe/Warsaw:20240116T080000
DTEND;TZID=Europe/Warsaw:20240116T120000
DTSTAMP:20260422T115531
CREATED:20231119T173454Z
LAST-MODIFIED:20231119T173454Z
UID:15904-1705392000-1705406400@sp1sieradz.pl
SUMMARY:Zabawy karnawałowe klasy 1-3
DESCRIPTION:
URL:https://sp1sieradz.pl/event/zabawy-karnawalowe-klasy-1-3/
CATEGORIES:Imprezy szkolne
END:VEVENT
END:VCALENDAR