BEGIN:VCALENDAR
VERSION:2.0
PRODID:-//Szkoła Podstawowa nr 1 w Sieradzu - ECPv6.0.2//NONSGML v1.0//EN
CALSCALE:GREGORIAN
METHOD:PUBLISH
X-WR-CALNAME:Szkoła Podstawowa nr 1 w Sieradzu
X-ORIGINAL-URL:https://sp1sieradz.pl
X-WR-CALDESC:Events for Szkoła Podstawowa nr 1 w Sieradzu
REFRESH-INTERVAL;VALUE=DURATION:PT1H
X-Robots-Tag:noindex
X-PUBLISHED-TTL:PT1H
BEGIN:VTIMEZONE
TZID:Europe/Warsaw
BEGIN:DAYLIGHT
TZOFFSETFROM:+0100
TZOFFSETTO:+0200
TZNAME:CEST
DTSTART:20240331T010000
END:DAYLIGHT
BEGIN:STANDARD
TZOFFSETFROM:+0200
TZOFFSETTO:+0100
TZNAME:CET
DTSTART:20241027T010000
END:STANDARD
END:VTIMEZONE
BEGIN:VEVENT
DTSTART;VALUE=DATE:20240515
DTEND;VALUE=DATE:20240516
DTSTAMP:20260423T003906
CREATED:20231119T174525Z
LAST-MODIFIED:20231119T174525Z
UID:15922-1715731200-1715817599@sp1sieradz.pl
SUMMARY:Egzamin Ósmoklasisty
DESCRIPTION:
URL:https://sp1sieradz.pl/event/egzamin-osmoklasisty-2/
CATEGORIES:Dni wolne
END:VEVENT
END:VCALENDAR