BEGIN:VCALENDAR
VERSION:2.0
PRODID:-//Szkoła Podstawowa nr 1 w Sieradzu - ECPv6.0.2//NONSGML v1.0//EN
CALSCALE:GREGORIAN
METHOD:PUBLISH
X-WR-CALNAME:Szkoła Podstawowa nr 1 w Sieradzu
X-ORIGINAL-URL:https://sp1sieradz.pl
X-WR-CALDESC:Events for Szkoła Podstawowa nr 1 w Sieradzu
REFRESH-INTERVAL;VALUE=DURATION:PT1H
X-Robots-Tag:noindex
X-PUBLISHED-TTL:PT1H
BEGIN:VTIMEZONE
TZID:Europe/Warsaw
BEGIN:DAYLIGHT
TZOFFSETFROM:+0100
TZOFFSETTO:+0200
TZNAME:CEST
DTSTART:20230326T010000
END:DAYLIGHT
BEGIN:STANDARD
TZOFFSETFROM:+0200
TZOFFSETTO:+0100
TZNAME:CET
DTSTART:20231029T010000
END:STANDARD
END:VTIMEZONE
BEGIN:VEVENT
DTSTART;TZID=Europe/Warsaw:20231205T080000
DTEND;TZID=Europe/Warsaw:20231205T110000
DTSTAMP:20260423T085802
CREATED:20231119T172818Z
LAST-MODIFIED:20231119T172818Z
UID:15898-1701763200-1701774000@sp1sieradz.pl
SUMMARY:Święto Patrona Szkoły
DESCRIPTION:
URL:https://sp1sieradz.pl/event/swieto-patrona-szkoly/
CATEGORIES:Imprezy szkolne
END:VEVENT
END:VCALENDAR