BEGIN:VCALENDAR
VERSION:2.0
PRODID:-//Szkoła Podstawowa nr 1 w Sieradzu - ECPv6.0.2//NONSGML v1.0//EN
CALSCALE:GREGORIAN
METHOD:PUBLISH
X-WR-CALNAME:Szkoła Podstawowa nr 1 w Sieradzu
X-ORIGINAL-URL:https://sp1sieradz.pl
X-WR-CALDESC:Events for Szkoła Podstawowa nr 1 w Sieradzu
REFRESH-INTERVAL;VALUE=DURATION:PT1H
X-Robots-Tag:noindex
X-PUBLISHED-TTL:PT1H
BEGIN:VTIMEZONE
TZID:Europe/Warsaw
BEGIN:DAYLIGHT
TZOFFSETFROM:+0100
TZOFFSETTO:+0200
TZNAME:CEST
DTSTART:20240331T010000
END:DAYLIGHT
BEGIN:STANDARD
TZOFFSETFROM:+0200
TZOFFSETTO:+0100
TZNAME:CET
DTSTART:20241027T010000
END:STANDARD
END:VTIMEZONE
BEGIN:VEVENT
DTSTART;VALUE=DATE:20240621
DTEND;VALUE=DATE:20240622
DTSTAMP:20260423T003442
CREATED:20231119T174101Z
LAST-MODIFIED:20231119T174120Z
UID:15912-1718928000-1719014399@sp1sieradz.pl
SUMMARY:Uroczyste zakończenie roku szkolnego 2023/2024
DESCRIPTION:Apele z okazji uroczystości zakończenia roku szkolnego 2023/2024 dla klas 1-3\, klas 4-7 oraz absolwentów klasy 8.
URL:https://sp1sieradz.pl/event/uroczyste-zakonczenie-roku-szkolnego-2023-2024/
CATEGORIES:Imprezy szkolne,Kalendarz szkolny 2023/2024
END:VEVENT
END:VCALENDAR