BEGIN:VCALENDAR
VERSION:2.0
PRODID:-//Szkoła Podstawowa nr 1 w Sieradzu - ECPv6.0.2//NONSGML v1.0//EN
CALSCALE:GREGORIAN
METHOD:PUBLISH
X-WR-CALNAME:Szkoła Podstawowa nr 1 w Sieradzu
X-ORIGINAL-URL:https://sp1sieradz.pl
X-WR-CALDESC:Events for Szkoła Podstawowa nr 1 w Sieradzu
REFRESH-INTERVAL;VALUE=DURATION:PT1H
X-Robots-Tag:noindex
X-PUBLISHED-TTL:PT1H
BEGIN:VTIMEZONE
TZID:Europe/Warsaw
BEGIN:DAYLIGHT
TZOFFSETFROM:+0100
TZOFFSETTO:+0200
TZNAME:CEST
DTSTART:20220327T010000
END:DAYLIGHT
BEGIN:STANDARD
TZOFFSETFROM:+0200
TZOFFSETTO:+0100
TZNAME:CET
DTSTART:20221030T010000
END:STANDARD
END:VTIMEZONE
BEGIN:VEVENT
DTSTART;VALUE=DATE:20220214
DTEND;VALUE=DATE:20220215
DTSTAMP:20260421T220207
CREATED:20221109T144225Z
LAST-MODIFIED:20221109T144508Z
UID:7502-1644796800-1644883199@sp1sieradz.pl
SUMMARY:Walentynki
DESCRIPTION:
URL:https://sp1sieradz.pl/event/walentynki/
END:VEVENT
END:VCALENDAR