BEGIN:VCALENDAR
VERSION:2.0
PRODID:-//Szkoła Podstawowa nr 1 w Sieradzu - ECPv6.0.2//NONSGML v1.0//EN
CALSCALE:GREGORIAN
METHOD:PUBLISH
X-ORIGINAL-URL:https://sp1sieradz.pl
X-WR-CALDESC:Events for Szkoła Podstawowa nr 1 w Sieradzu
REFRESH-INTERVAL;VALUE=DURATION:PT1H
X-Robots-Tag:noindex
X-PUBLISHED-TTL:PT1H
BEGIN:VTIMEZONE
TZID:Europe/Warsaw
BEGIN:DAYLIGHT
TZOFFSETFROM:+0100
TZOFFSETTO:+0200
TZNAME:CEST
DTSTART:20230326T010000
END:DAYLIGHT
BEGIN:STANDARD
TZOFFSETFROM:+0200
TZOFFSETTO:+0100
TZNAME:CET
DTSTART:20231029T010000
END:STANDARD
END:VTIMEZONE
BEGIN:VEVENT
DTSTART;VALUE=DATE:20230904
DTEND;VALUE=DATE:20230905
DTSTAMP:20260422T162118
CREATED:20231119T171818Z
LAST-MODIFIED:20231119T172309Z
UID:15884-1693785600-1693871999@sp1sieradz.pl
SUMMARY:Uroczyste rozpoczęcie roku szkolnego 2023/2024
DESCRIPTION:
URL:https://sp1sieradz.pl/event/uroczyste-rozpoczecie-roku-szkolnego-2023-2024/
CATEGORIES:Kalendarz szkolny 2023/2024
END:VEVENT
BEGIN:VEVENT
DTSTART;TZID=Europe/Warsaw:20230926T080000
DTEND;TZID=Europe/Warsaw:20230926T110000
DTSTAMP:20260422T162118
CREATED:20231119T172351Z
LAST-MODIFIED:20231119T172351Z
UID:15890-1695715200-1695726000@sp1sieradz.pl
SUMMARY:Europejski Dzień Języków Obcych
DESCRIPTION:Impreza związana z językami obcymi używanymi w różnych krajach Europy
URL:https://sp1sieradz.pl/event/europejski-dzien-jezykow-obcych/
CATEGORIES:Imprezy szkolne
END:VEVENT
END:VCALENDAR