BEGIN:VCALENDAR
VERSION:2.0
PRODID:-//Szkoła Podstawowa nr 1 w Sieradzu - ECPv6.0.2//NONSGML v1.0//EN
CALSCALE:GREGORIAN
METHOD:PUBLISH
X-ORIGINAL-URL:https://sp1sieradz.pl
X-WR-CALDESC:Events for Szkoła Podstawowa nr 1 w Sieradzu
REFRESH-INTERVAL;VALUE=DURATION:PT1H
X-Robots-Tag:noindex
X-PUBLISHED-TTL:PT1H
BEGIN:VTIMEZONE
TZID:Europe/Warsaw
BEGIN:DAYLIGHT
TZOFFSETFROM:+0100
TZOFFSETTO:+0200
TZNAME:CEST
DTSTART:20230326T010000
END:DAYLIGHT
BEGIN:STANDARD
TZOFFSETFROM:+0200
TZOFFSETTO:+0100
TZNAME:CET
DTSTART:20231029T010000
END:STANDARD
END:VTIMEZONE
BEGIN:VEVENT
DTSTART;TZID=Europe/Warsaw:20231110T080000
DTEND;TZID=Europe/Warsaw:20231110T103000
DTSTAMP:20260422T131915
CREATED:20231119T172548Z
LAST-MODIFIED:20231119T172548Z
UID:15894-1699603200-1699612200@sp1sieradz.pl
SUMMARY:Święto Niepodległości - apel
DESCRIPTION:
URL:https://sp1sieradz.pl/event/swieto-niepodleglosci-apel/
CATEGORIES:Imprezy szkolne
END:VEVENT
BEGIN:VEVENT
DTSTART;TZID=Europe/Warsaw:20231110T110000
DTEND;TZID=Europe/Warsaw:20231110T111100
DTSTAMP:20260422T131915
CREATED:20231119T172706Z
LAST-MODIFIED:20231119T172706Z
UID:15896-1699614000-1699614660@sp1sieradz.pl
SUMMARY:Szkoła do hymnu
DESCRIPTION:Akcja ogólnopolska – wspólne śpiewanie „Mazurka Dąbrowskiego” na boisku szkolnym
URL:https://sp1sieradz.pl/event/szkola-do-hymnu/
CATEGORIES:Imprezy szkolne
END:VEVENT
BEGIN:VEVENT
DTSTART;TZID=Europe/Warsaw:20231129T080000
DTEND;TZID=Europe/Warsaw:20231129T120000
DTSTAMP:20260422T131915
CREATED:20231119T173817Z
LAST-MODIFIED:20231119T173817Z
UID:15908-1701244800-1701259200@sp1sieradz.pl
SUMMARY:"Kto Ty jesteś?" - międzyszkolny konkurs
DESCRIPTION:Międzyszkolny konkurs przyrodniczo-historyczny wiedzy o Polsce dla uczniów  kl. III
URL:https://sp1sieradz.pl/event/kto-ty-jestes-miedzyszkolny-konkurs/
CATEGORIES:Imprezy szkolne
END:VEVENT
END:VCALENDAR